BEGIN:VCALENDAR
VERSION:2.0
PRODID:-//Associated Colleges of the Midwest - ECPv6.15.18//NONSGML v1.0//EN
CALSCALE:GREGORIAN
METHOD:PUBLISH
X-ORIGINAL-URL:https://acm.edu
X-WR-CALDESC:Events for Associated Colleges of the Midwest
REFRESH-INTERVAL;VALUE=DURATION:PT1H
X-Robots-Tag:noindex
X-PUBLISHED-TTL:PT1H
BEGIN:VTIMEZONE
TZID:America/Chicago
BEGIN:DAYLIGHT
TZOFFSETFROM:-0600
TZOFFSETTO:-0500
TZNAME:CDT
DTSTART:20160313T080000
END:DAYLIGHT
BEGIN:STANDARD
TZOFFSETFROM:-0500
TZOFFSETTO:-0600
TZNAME:CST
DTSTART:20161106T070000
END:STANDARD
BEGIN:DAYLIGHT
TZOFFSETFROM:-0600
TZOFFSETTO:-0500
TZNAME:CDT
DTSTART:20170312T080000
END:DAYLIGHT
BEGIN:STANDARD
TZOFFSETFROM:-0500
TZOFFSETTO:-0600
TZNAME:CST
DTSTART:20171105T070000
END:STANDARD
BEGIN:DAYLIGHT
TZOFFSETFROM:-0600
TZOFFSETTO:-0500
TZNAME:CDT
DTSTART:20180311T080000
END:DAYLIGHT
BEGIN:STANDARD
TZOFFSETFROM:-0500
TZOFFSETTO:-0600
TZNAME:CST
DTSTART:20181104T070000
END:STANDARD
END:VTIMEZONE
BEGIN:VEVENT
DTSTART;TZID=America/Chicago:20170807T000000
DTEND;TZID=America/Chicago:20170808T000000
DTSTAMP:20260421T042927
CREATED:20211109T170544Z
LAST-MODIFIED:20211110T093155Z
UID:75652-1502064000-1502150400@acm.edu
SUMMARY:ACM Annual Giving\, Alumni Relations\, and Career Services Conference
DESCRIPTION:This meeting will bring together ACM colleagues in Annual Giving\, Alumni Relations\, and Career Services for a two-day conference at Luther College. \nFor more information\, contact Maria Smith\, Director of Annual Giving at Luther College.
URL:https://acm.edu/event/acm-annual-giving-alumni-relations-and-career-services-conference/
LOCATION:Luther College\, Decorah\, IA\, Luther College\, Decorah\, IA\, United States
CATEGORIES:Faculty and staff
ORGANIZER;CN="Maria Smith":MAILTO:smithmar@luther.edu
END:VEVENT
END:VCALENDAR