BEGIN:VCALENDAR
VERSION:2.0
PRODID:-//Associated Colleges of the Midwest - ECPv6.15.18//NONSGML v1.0//EN
CALSCALE:GREGORIAN
METHOD:PUBLISH
X-ORIGINAL-URL:https://acm.edu
X-WR-CALDESC:Events for Associated Colleges of the Midwest
REFRESH-INTERVAL;VALUE=DURATION:PT1H
X-Robots-Tag:noindex
X-PUBLISHED-TTL:PT1H
BEGIN:VTIMEZONE
TZID:America/Chicago
BEGIN:DAYLIGHT
TZOFFSETFROM:-0600
TZOFFSETTO:-0500
TZNAME:CDT
DTSTART:20150308T080000
END:DAYLIGHT
BEGIN:STANDARD
TZOFFSETFROM:-0500
TZOFFSETTO:-0600
TZNAME:CST
DTSTART:20151101T070000
END:STANDARD
BEGIN:DAYLIGHT
TZOFFSETFROM:-0600
TZOFFSETTO:-0500
TZNAME:CDT
DTSTART:20160313T080000
END:DAYLIGHT
BEGIN:STANDARD
TZOFFSETFROM:-0500
TZOFFSETTO:-0600
TZNAME:CST
DTSTART:20161106T070000
END:STANDARD
BEGIN:DAYLIGHT
TZOFFSETFROM:-0600
TZOFFSETTO:-0500
TZNAME:CDT
DTSTART:20170312T080000
END:DAYLIGHT
BEGIN:STANDARD
TZOFFSETFROM:-0500
TZOFFSETTO:-0600
TZNAME:CST
DTSTART:20171105T070000
END:STANDARD
BEGIN:DAYLIGHT
TZOFFSETFROM:-0600
TZOFFSETTO:-0500
TZNAME:CDT
DTSTART:20180311T080000
END:DAYLIGHT
BEGIN:STANDARD
TZOFFSETFROM:-0500
TZOFFSETTO:-0600
TZNAME:CST
DTSTART:20181104T070000
END:STANDARD
BEGIN:DAYLIGHT
TZOFFSETFROM:-0600
TZOFFSETTO:-0500
TZNAME:CDT
DTSTART:20190310T080000
END:DAYLIGHT
BEGIN:STANDARD
TZOFFSETFROM:-0500
TZOFFSETTO:-0600
TZNAME:CST
DTSTART:20191103T070000
END:STANDARD
BEGIN:DAYLIGHT
TZOFFSETFROM:-0600
TZOFFSETTO:-0500
TZNAME:CDT
DTSTART:20200308T080000
END:DAYLIGHT
BEGIN:STANDARD
TZOFFSETFROM:-0500
TZOFFSETTO:-0600
TZNAME:CST
DTSTART:20201101T070000
END:STANDARD
BEGIN:DAYLIGHT
TZOFFSETFROM:-0600
TZOFFSETTO:-0500
TZNAME:CDT
DTSTART:20210314T080000
END:DAYLIGHT
BEGIN:STANDARD
TZOFFSETFROM:-0500
TZOFFSETTO:-0600
TZNAME:CST
DTSTART:20211107T070000
END:STANDARD
BEGIN:DAYLIGHT
TZOFFSETFROM:-0600
TZOFFSETTO:-0500
TZNAME:CDT
DTSTART:20220313T080000
END:DAYLIGHT
BEGIN:STANDARD
TZOFFSETFROM:-0500
TZOFFSETTO:-0600
TZNAME:CST
DTSTART:20221106T070000
END:STANDARD
BEGIN:DAYLIGHT
TZOFFSETFROM:-0600
TZOFFSETTO:-0500
TZNAME:CDT
DTSTART:20230312T080000
END:DAYLIGHT
BEGIN:STANDARD
TZOFFSETFROM:-0500
TZOFFSETTO:-0600
TZNAME:CST
DTSTART:20231105T070000
END:STANDARD
BEGIN:DAYLIGHT
TZOFFSETFROM:-0600
TZOFFSETTO:-0500
TZNAME:CDT
DTSTART:20240310T080000
END:DAYLIGHT
BEGIN:STANDARD
TZOFFSETFROM:-0500
TZOFFSETTO:-0600
TZNAME:CST
DTSTART:20241103T070000
END:STANDARD
BEGIN:DAYLIGHT
TZOFFSETFROM:-0600
TZOFFSETTO:-0500
TZNAME:CDT
DTSTART:20250309T080000
END:DAYLIGHT
BEGIN:STANDARD
TZOFFSETFROM:-0500
TZOFFSETTO:-0600
TZNAME:CST
DTSTART:20251102T070000
END:STANDARD
BEGIN:DAYLIGHT
TZOFFSETFROM:-0600
TZOFFSETTO:-0500
TZNAME:CDT
DTSTART:20260308T080000
END:DAYLIGHT
BEGIN:STANDARD
TZOFFSETFROM:-0500
TZOFFSETTO:-0600
TZNAME:CST
DTSTART:20261101T070000
END:STANDARD
END:VTIMEZONE
BEGIN:VEVENT
DTSTART;VALUE=DATE:20250910
DTEND;VALUE=DATE:20250913
DTSTAMP:20260424T025740
CREATED:20250306T204502Z
LAST-MODIFIED:20250306T204502Z
UID:92574-1757462400-1757721599@acm.edu
SUMMARY:ACM Business Officers Consortial Group
DESCRIPTION:
URL:https://acm.edu/event/acm-business-officers-consortial-group/
LOCATION:Macalester College\, St. Paul\, MN\, Macalester College\, St. Paul\, MN\, United States
CATEGORIES:Faculty and staff
END:VEVENT
BEGIN:VEVENT
DTSTART;VALUE=DATE:20250812
DTEND;VALUE=DATE:20250816
DTSTAMP:20260424T025740
CREATED:20250520T203700Z
LAST-MODIFIED:20250520T203700Z
UID:93162-1754956800-1755302399@acm.edu
SUMMARY:ACM Grants Lab
DESCRIPTION:
URL:https://acm.edu/event/acm-grants-lab/
LOCATION:Macalester College\, St. Paul\, MN\, Macalester College\, St. Paul\, MN\, United States
CATEGORIES:Faculty and staff
END:VEVENT
BEGIN:VEVENT
DTSTART;VALUE=DATE:20250617
DTEND;VALUE=DATE:20250619
DTSTAMP:20260424T025740
CREATED:20250507T161204Z
LAST-MODIFIED:20250507T161204Z
UID:93049-1750118400-1750291199@acm.edu
SUMMARY:ACM Diversity Officers Consortial Group Meeting
DESCRIPTION:
URL:https://acm.edu/event/acm-diversity-officers-consortial-group-meeting/
LOCATION:Macalester College\, St. Paul\, MN\, Macalester College\, St. Paul\, MN\, United States
CATEGORIES:Faculty and staff
END:VEVENT
BEGIN:VEVENT
DTSTART;VALUE=DATE:20250428
DTEND;VALUE=DATE:20250430
DTSTAMP:20260424T025740
CREATED:20250306T194848Z
LAST-MODIFIED:20250306T194848Z
UID:92566-1745798400-1745971199@acm.edu
SUMMARY:ACM Foundations Officers Consortial Group
DESCRIPTION:
URL:https://acm.edu/event/acm-foundations-officers-consortial-group-2/
LOCATION:Macalester College\, St. Paul\, MN\, Macalester College\, St. Paul\, MN\, United States
CATEGORIES:Faculty and staff
END:VEVENT
BEGIN:VEVENT
DTSTART;TZID=America/Chicago:20250409T120000
DTEND;TZID=America/Chicago:20250410T120000
DTSTAMP:20260424T025740
CREATED:20240702T143231Z
LAST-MODIFIED:20250113T202344Z
UID:79327-1744200000-1744286400@acm.edu
SUMMARY:ACM Off-Campus Study Consortial Group
DESCRIPTION:
URL:https://acm.edu/event/acm-off-campus-study-consortial-group-3/
LOCATION:Macalester College\, St. Paul\, MN\, Macalester College\, St. Paul\, MN\, United States
CATEGORIES:Faculty and staff
END:VEVENT
BEGIN:VEVENT
DTSTART;TZID=America/Chicago:20250221T120000
DTEND;TZID=America/Chicago:20250222T120000
DTSTAMP:20260424T025740
CREATED:20250109T153605Z
LAST-MODIFIED:20250109T153605Z
UID:90675-1740139200-1740225600@acm.edu
SUMMARY:ACM Academic Leadership Fellows 2025 Winter Meeting
DESCRIPTION:
URL:https://acm.edu/event/acm-academic-leadership-fellows-2025-winter-meeting/
LOCATION:Macalester College\, St. Paul\, MN\, Macalester College\, St. Paul\, MN\, United States
CATEGORIES:Faculty and staff
END:VEVENT
BEGIN:VEVENT
DTSTART;TZID=America/Chicago:20231206T120000
DTEND;TZID=America/Chicago:20231207T120000
DTSTAMP:20260424T025740
CREATED:20230530T200836Z
LAST-MODIFIED:20231120T154632Z
UID:77655-1701864000-1701950400@acm.edu
SUMMARY:ACM Admissions Visits and Events Consortial Group
DESCRIPTION:
URL:https://acm.edu/event/acm-admissions-visits-and-events-consortial-group/
LOCATION:Macalester College\, St. Paul\, MN\, Macalester College\, St. Paul\, MN\, United States
CATEGORIES:Faculty and staff
END:VEVENT
BEGIN:VEVENT
DTSTART;VALUE=DATE:20231101
DTEND;VALUE=DATE:20231103
DTSTAMP:20260424T025740
CREATED:20230530T195356Z
LAST-MODIFIED:20230530T195356Z
UID:77650-1698796800-1698969599@acm.edu
SUMMARY:ACM Board of Directors Meeting
DESCRIPTION:
URL:https://acm.edu/event/acm-board-of-directors-meeting/
LOCATION:Macalester College\, St. Paul\, MN\, Macalester College\, St. Paul\, MN\, United States
END:VEVENT
BEGIN:VEVENT
DTSTART;TZID=America/Chicago:20191014T000000
DTEND;TZID=America/Chicago:20191015T000000
DTSTAMP:20260424T025740
CREATED:20211110T124942Z
LAST-MODIFIED:20211110T124942Z
UID:75929-1571011200-1571097600@acm.edu
SUMMARY:ACM Advisory Board of Deans Meeting
DESCRIPTION:The fall 2019 meeting of the ACM Advisory Board of Deans will take place at Macalester College in St. Paul\, MN. The meeting will bring together ACM chief academic officers as well as assistant and associate deans. For more information\, please contact Betsy Hutula\, ACM Chief of Staff.
URL:https://acm.edu/event/acm-advisory-board-of-deans-meeting-11/
LOCATION:Macalester College\, St. Paul\, MN\, Macalester College\, St. Paul\, MN\, United States
CATEGORIES:Faculty and staff
ORGANIZER;CN="Betsy Hutula":MAILTO:ehutula@acm.edu
END:VEVENT
BEGIN:VEVENT
DTSTART;TZID=America/Chicago:20180718T000000
DTEND;TZID=America/Chicago:20180719T000000
DTSTAMP:20260424T025740
CREATED:20211110T124541Z
LAST-MODIFIED:20211110T124541Z
UID:75919-1531872000-1531958400@acm.edu
SUMMARY:ACM Meeting on Digital Competencies
DESCRIPTION:Join librarians\, information technologists\, and faculty from across the ACM to discuss digital competencies\, digital literacies\, and future technology skills for students\, staff\, and faculty. The goal of this meeting is to identify specific\, collaborative actions to advance digital literacy initiatives on ACM campuses. \nFor more information and to make a reservation to attend\, contact Terri Fishel\, Library Director at Macalester.
URL:https://acm.edu/event/acm-meeting-on-digital-competencies/
LOCATION:Macalester College\, St. Paul\, MN\, Macalester College\, St. Paul\, MN\, United States
CATEGORIES:Faculty and staff
END:VEVENT
BEGIN:VEVENT
DTSTART;TZID=America/Chicago:20170724T120000
DTEND;TZID=America/Chicago:20170725T130000
DTSTAMP:20260424T025740
CREATED:20211109T172131Z
LAST-MODIFIED:20211110T101625Z
UID:75718-1500897600-1500987600@acm.edu
SUMMARY:ACM Financial Aid Directors Meeting
DESCRIPTION:The 2017 annual meeting of Financial Aid Officers from ACM colleges will be held Macalester College in St. Paul\, MN\, and will be co-hosted by Grinnell College. For information\, contact Brian Lindeman\, Director of Financial Aid at Macalester College or Brad Lindberg\, Assistant Vice President of Enrollment & Director of Student Financial Aid at Grinnell College. \nMeeting schedule \n\nMonday\, July 24Noon – Lunch1:00-5:00 p.m. – MeetingGroup dinner in the evening\n\n\nTuesday\, July 259:00 a.m.-Noon – Meeting
URL:https://acm.edu/event/acm-financial-aid-directors-meeting/
LOCATION:Macalester College\, St. Paul\, MN\, Macalester College\, St. Paul\, MN\, United States
CATEGORIES:Faculty and staff
END:VEVENT
BEGIN:VEVENT
DTSTART;TZID=America/Chicago:20170724T000000
DTEND;TZID=America/Chicago:20170725T000000
DTSTAMP:20260424T025740
CREATED:20211109T172433Z
LAST-MODIFIED:20211110T102125Z
UID:75732-1500854400-1500940800@acm.edu
SUMMARY:ACM Financial Aid Directors meeting
DESCRIPTION:The 2017 annual meeting of Financial Aid Officers from ACM colleges will be held at Macalester College in St. Paul\, MN\, and will be co-hosted by Grinnell College.  \nFor information\, contact Brian Lindeman\, Director of Financial Aid at Macalester College or Brad Lindberg\, Assistant Vice President of Enrollment & Director of Student Financial Aid at Grinnell College. \nMeeting schedule \n\nMonday\, July 2411:30 a.m. – Lunch11:45 a.m.-5:00 p.m. – MeetingGroup dinner in the evening\n\n\nTuesday\, July 258:00 a.m. – Breakfast\n\n     8:30 a.m.-Noon – Meeting
URL:https://acm.edu/event/acm-financial-aid-directors-meeting-2/
LOCATION:Macalester College\, St. Paul\, MN\, Macalester College\, St. Paul\, MN\, United States
CATEGORIES:Faculty and staff
ORGANIZER;CN="Betsy Hutula":MAILTO:ehutula@acm.edu
END:VEVENT
BEGIN:VEVENT
DTSTART;TZID=America/Chicago:20161027T000000
DTEND;TZID=America/Chicago:20161027T000000
DTSTAMP:20260424T025740
CREATED:20211109T171131Z
LAST-MODIFIED:20211110T093855Z
UID:75668-1477526400-1477526400@acm.edu
SUMMARY:Graduate School Exploration Fellowship (GSEF) information session at Macalester College
DESCRIPTION:The Graduate School Exploration Fellowship (GSEF) provides an inside look at what it takes to become a college professor! \n \nFellowships provide mentoring during the junior and senior year and a summer research internship at a top-ranked research university. Learn more at this GSEF information session for sophomores and first-year students: \n\nThursday\, October 27 at 4 p.m. (location TBA)\n\nVisit the GSEF webpage for more details about eligibility\, areas of study\, and what these fellowships offer.
URL:https://acm.edu/event/graduate-school-exploration-fellowship-gsef-information-session-at-macalester-college/
LOCATION:Macalester College\, St. Paul\, MN\, Macalester College\, St. Paul\, MN\, United States
CATEGORIES:Students
END:VEVENT
BEGIN:VEVENT
DTSTART;TZID=America/Chicago:20161004T000000
DTEND;TZID=America/Chicago:20161004T000000
DTSTAMP:20260424T025740
CREATED:20211109T170643Z
LAST-MODIFIED:20211110T093355Z
UID:75655-1475539200-1475539200@acm.edu
SUMMARY:ACM off-campus study recruiting visit at Macalester College
DESCRIPTION:Don’t miss this talk by special guest Dr. Javier Espeleta\, Director of the ACM Costa Rica programs and a passionate environmentalist! \nChallenges of Global Climatic Change\nOctober 4 at 2 p.m. – 3 p.m. in the Harmon Room \nFollowing Dr. Espeleta’s talk\, you can chat with representatives about all of the ACM off-campus study programs.
URL:https://acm.edu/event/acm-off-campus-study-recruiting-visit-at-macalester-college/
LOCATION:Macalester College\, St. Paul\, MN\, Macalester College\, St. Paul\, MN\, United States
CATEGORIES:Students
END:VEVENT
END:VCALENDAR